BEGIN:VCALENDAR
VERSION:2.0
PRODID:-//Plone.org//NONSGML plone.app.event//EN
X-WR-TIMEZONE:Brazil/East
BEGIN:VEVENT
SUMMARY:Audiência Pública sobre LOA e PPA
DTSTART;TZID=Brazil/East;VALUE=DATE-TIME:20251204T140000
DTSTAMP;VALUE=DATE-TIME:20260425T205058Z
UID:15bd6016187441f48d94cc6e3b3f5052@www.uba.mg.leg.br
CREATED;VALUE=DATE-TIME:20251111T155201Z
LAST-MODIFIED;VALUE=DATE-TIME:20251111T155204Z
URL:https://www.uba.mg.leg.br/agenda/audiencia-publica-sobre-loa-e-ppa
END:VEVENT
BEGIN:VTIMEZONE
TZID:Brazil/East
X-LIC-LOCATION:Brazil/East
BEGIN:DAYLIGHT
DTSTART;VALUE=DATE-TIME:20251019T010000
TZNAME:BRST
TZOFFSETFROM:-0300
TZOFFSETTO:-0200
END:DAYLIGHT
END:VTIMEZONE
END:VCALENDAR
