BEGIN:VCALENDAR
VERSION:2.0
PRODID:-//Plone.org//NONSGML plone.app.event//EN
X-WR-TIMEZONE:Brazil/East
BEGIN:VEVENT
SUMMARY:Reunião Ordinária 
DTSTART;TZID=Brazil/East;VALUE=DATE-TIME:20260330T190000
DTSTAMP;VALUE=DATE-TIME:20260425T162432Z
UID:02e33cebc2b44be79987d3c7f105d163@www.uba.mg.leg.br
CREATED;VALUE=DATE-TIME:20260310T123946Z
LAST-MODIFIED;VALUE=DATE-TIME:20260310T123950Z
URL:https://www.uba.mg.leg.br/agenda/reuniao-ordinaria-37
END:VEVENT
BEGIN:VTIMEZONE
TZID:Brazil/East
X-LIC-LOCATION:Brazil/East
BEGIN:STANDARD
DTSTART;VALUE=DATE-TIME:20260221T230000
TZNAME:BRT
TZOFFSETFROM:-0200
TZOFFSETTO:-0300
END:STANDARD
END:VTIMEZONE
END:VCALENDAR
